BEGIN:VCALENDAR
VERSION:2.0
PRODID:-//Limelife Tax - ECPv6.15.20//NONSGML v1.0//EN
CALSCALE:GREGORIAN
METHOD:PUBLISH
X-WR-CALNAME:Limelife Tax
X-ORIGINAL-URL:https://limelifetax.com
X-WR-CALDESC:Events for Limelife Tax
REFRESH-INTERVAL;VALUE=DURATION:PT1H
X-Robots-Tag:noindex
X-PUBLISHED-TTL:PT1H
BEGIN:VTIMEZONE
TZID:America/Chicago
BEGIN:DAYLIGHT
TZOFFSETFROM:-0600
TZOFFSETTO:-0500
TZNAME:CDT
DTSTART:20250309T080000
END:DAYLIGHT
BEGIN:STANDARD
TZOFFSETFROM:-0500
TZOFFSETTO:-0600
TZNAME:CST
DTSTART:20251102T070000
END:STANDARD
BEGIN:DAYLIGHT
TZOFFSETFROM:-0600
TZOFFSETTO:-0500
TZNAME:CDT
DTSTART:20260308T080000
END:DAYLIGHT
BEGIN:STANDARD
TZOFFSETFROM:-0500
TZOFFSETTO:-0600
TZNAME:CST
DTSTART:20261101T070000
END:STANDARD
BEGIN:DAYLIGHT
TZOFFSETFROM:-0600
TZOFFSETTO:-0500
TZNAME:CDT
DTSTART:20270314T080000
END:DAYLIGHT
BEGIN:STANDARD
TZOFFSETFROM:-0500
TZOFFSETTO:-0600
TZNAME:CST
DTSTART:20271107T070000
END:STANDARD
END:VTIMEZONE
BEGIN:VTIMEZONE
TZID:UTC
BEGIN:STANDARD
TZOFFSETFROM:+0000
TZOFFSETTO:+0000
TZNAME:UTC
DTSTART:20250101T000000
END:STANDARD
END:VTIMEZONE
BEGIN:VEVENT
DTSTART;VALUE=DATE:20260915
DTEND;VALUE=DATE:20260916
DTSTAMP:20260423T104423
CREATED:20251217T221611Z
LAST-MODIFIED:20251217T221611Z
UID:4166-1789430400-1789516799@limelifetax.com
SUMMARY:Q3 Estimated Quarterly Tax Payments Due
DESCRIPTION:
URL:https://limelifetax.com/event/q3-estimated-quarterly-tax-payments-due/
ATTACH;FMTTYPE=image/jpeg:https://limelifetax.com/wp-content/uploads/2025/12/EVENT-Q3-paytax-1.jpg
END:VEVENT
BEGIN:VEVENT
DTSTART;VALUE=DATE:20260915
DTEND;VALUE=DATE:20260916
DTSTAMP:20260423T104423
CREATED:20251217T221915Z
LAST-MODIFIED:20251217T221915Z
UID:4170-1789430400-1789516799@limelifetax.com
SUMMARY:Extended Deadline for Calendar Year partnership and S - Corporation Tax Returns
DESCRIPTION:
URL:https://limelifetax.com/event/extended-deadline-for-calendar-year-partnership-and-s-corporation-tax-returns/
ATTACH;FMTTYPE=image/jpeg:https://limelifetax.com/wp-content/uploads/2025/12/EVENT-ext-deadline-scorp.jpg
END:VEVENT
BEGIN:VEVENT
DTSTART;VALUE=DATE:20261015
DTEND;VALUE=DATE:20261016
DTSTAMP:20260423T104423
CREATED:20251217T222055Z
LAST-MODIFIED:20251217T222055Z
UID:4173-1792022400-1792108799@limelifetax.com
SUMMARY:Extended Deadline for Calendar Year individual\, Schedule C and C-Corporation Tax Returns
DESCRIPTION:
URL:https://limelifetax.com/event/extended-deadline-for-calendar-year-individual-schedule-c-and-c-corporation-tax-returns/
ATTACH;FMTTYPE=image/jpeg:https://limelifetax.com/wp-content/uploads/2025/12/EVENT-ext-deadline-indviduals.jpg
END:VEVENT
END:VCALENDAR